BEGIN:VCALENDAR
VERSION:2.0
PRODID:-//Kräutermanufaktur Sagan - ECPv6.15.20//NONSGML v1.0//EN
CALSCALE:GREGORIAN
METHOD:PUBLISH
X-ORIGINAL-URL:https://www.druwido.de
X-WR-CALDESC:Veranstaltungen für Kräutermanufaktur Sagan
REFRESH-INTERVAL;VALUE=DURATION:PT1H
X-Robots-Tag:noindex
X-PUBLISHED-TTL:PT1H
BEGIN:VTIMEZONE
TZID:Europe/Berlin
BEGIN:DAYLIGHT
TZOFFSETFROM:+0100
TZOFFSETTO:+0200
TZNAME:CEST
DTSTART:20240331T010000
END:DAYLIGHT
BEGIN:STANDARD
TZOFFSETFROM:+0200
TZOFFSETTO:+0100
TZNAME:CET
DTSTART:20241027T010000
END:STANDARD
BEGIN:DAYLIGHT
TZOFFSETFROM:+0100
TZOFFSETTO:+0200
TZNAME:CEST
DTSTART:20250330T010000
END:DAYLIGHT
BEGIN:STANDARD
TZOFFSETFROM:+0200
TZOFFSETTO:+0100
TZNAME:CET
DTSTART:20251026T010000
END:STANDARD
BEGIN:DAYLIGHT
TZOFFSETFROM:+0100
TZOFFSETTO:+0200
TZNAME:CEST
DTSTART:20260329T010000
END:DAYLIGHT
BEGIN:STANDARD
TZOFFSETFROM:+0200
TZOFFSETTO:+0100
TZNAME:CET
DTSTART:20261025T010000
END:STANDARD
END:VTIMEZONE
BEGIN:VEVENT
DTSTART;TZID=Europe/Berlin:20250228T181500
DTEND;TZID=Europe/Berlin:20250228T201500
DTSTAMP:20260419T161028
CREATED:20250120T164532Z
LAST-MODIFIED:20250120T171133Z
UID:7939-1740766500-1740773700@www.druwido.de
SUMMARY:Workshop "Kräuterteeküche"
DESCRIPTION:Kräuterteeküche\nVortrag und Workshop\nIn einem Kurzvortrag geben wir einen kurzen Einblick in unser Handwerk “Teeherstellung“ und klären über die kleinen Fallen und Ammenmärchen auf\, welche sogar der Gesundheit schaden können. \nAnschließend werden wir das Wissen um die Herstellung eines guten Kräutertees vertiefen. Sie lernen die Bestandteile näher kennen und erhalten Tipps\, wie man den Tee richtig zusammenstellt. Es gibt eine kurze Einführung in die Kräuterkunde der beliebtesten Teekräuter\, welche Sie auch in einem Quiz geschmacklich kennenlernen. \nBesonderheit: Es erwartet Sie eine kleine Teeverkostung unserer Kreationen\, während des Vortrages. Bringen Sie reichlich Durst mit. \nIm praktischen Teil füllen wir Ihre Vorratskammer mit: einem selbstgemachten Haustee/Heiltee\, \neinem winterlichen Früchte-Tee und einem Gewürztee. \nEs erwarten Sie ein Kräuterbüfett und viel Kräutertee. \nStart 18.15 Uhr | Dauer: ca. 2-3h | Karten nur im Vorverkauf | Preis: 26\,00€/Person \n  \nHier gehts zum Ticketvorverkauf
URL:https://www.druwido.de/event/workshop-kraeuterteekueche/
CATEGORIES:Was ist los bei uns?
ATTACH;FMTTYPE=image/jpeg:https://www.druwido.de/wp-content/uploads/2025/01/Kraeuterteekueche-scaled.jpg
END:VEVENT
END:VCALENDAR