BEGIN:VCALENDAR
VERSION:2.0
PRODID:-//Kräutermanufaktur Sagan - ECPv6.15.20//NONSGML v1.0//EN
CALSCALE:GREGORIAN
METHOD:PUBLISH
X-ORIGINAL-URL:https://www.druwido.de
X-WR-CALDESC:Veranstaltungen für Kräutermanufaktur Sagan
REFRESH-INTERVAL;VALUE=DURATION:PT1H
X-Robots-Tag:noindex
X-PUBLISHED-TTL:PT1H
BEGIN:VTIMEZONE
TZID:Europe/Berlin
BEGIN:DAYLIGHT
TZOFFSETFROM:+0100
TZOFFSETTO:+0200
TZNAME:CEST
DTSTART:20240331T010000
END:DAYLIGHT
BEGIN:STANDARD
TZOFFSETFROM:+0200
TZOFFSETTO:+0100
TZNAME:CET
DTSTART:20241027T010000
END:STANDARD
BEGIN:DAYLIGHT
TZOFFSETFROM:+0100
TZOFFSETTO:+0200
TZNAME:CEST
DTSTART:20250330T010000
END:DAYLIGHT
BEGIN:STANDARD
TZOFFSETFROM:+0200
TZOFFSETTO:+0100
TZNAME:CET
DTSTART:20251026T010000
END:STANDARD
BEGIN:DAYLIGHT
TZOFFSETFROM:+0100
TZOFFSETTO:+0200
TZNAME:CEST
DTSTART:20260329T010000
END:DAYLIGHT
BEGIN:STANDARD
TZOFFSETFROM:+0200
TZOFFSETTO:+0100
TZNAME:CET
DTSTART:20261025T010000
END:STANDARD
END:VTIMEZONE
BEGIN:VEVENT
DTSTART;TZID=Europe/Berlin:20250411T181500
DTEND;TZID=Europe/Berlin:20250411T201500
DTSTAMP:20260419T142319
CREATED:20250121T121857Z
LAST-MODIFIED:20250121T140738Z
UID:7957-1744395300-1744402500@www.druwido.de
SUMMARY:Workshop "bunte Pfefferküche"
DESCRIPTION:bunte Pfefferküche\nVortrag und Workshop\nIm Kurzvortrag „wo der Pfeffer wächst“ erfahren Sie Wissenswertes zu Wirkstoffen\, Anbau\, Verwendung und Geschmack der verschiedenen Pfeffersorten. Während des Vortrages findet eine Pfefferverkostung statt\, so dass Sie mit allen Sinnen unsere 20 Sorten Pfeffer genießen können. Danach verarbeiten wir Ihre Lieblingspfeffersorten zu kulinarischen Besonderheiten. \nIm praktischen Teil füllen wir Ihre Vorratskammer mit: einem Pfeffer-Speiseöl\, einem Pfeffer-Essig und einem Pfefferaufstrich (zum zügigen Verbrauch) \nEs erwarten Sie ein Pfefferbüfett und Kräutertee. \nAußerdem erhalten Sie alle Rezepte ausgehändigt. \nStart 18.15 Uhr | Dauer: ca. 2-3h | Karten nur im Vorverkauf | Preis: 26\,00€/Person \n  \nHier gehts zum Ticketvorverkauf
URL:https://www.druwido.de/event/workshop-bunte-pfefferkueche/
CATEGORIES:Was ist los bei uns?
ATTACH;FMTTYPE=image/jpeg:https://www.druwido.de/wp-content/uploads/2025/01/bunte-Pfefferkueche-scaled.jpg
END:VEVENT
END:VCALENDAR