BEGIN:VCALENDAR
VERSION:2.0
PRODID:-//Kräutermanufaktur Sagan - ECPv6.15.20//NONSGML v1.0//EN
CALSCALE:GREGORIAN
METHOD:PUBLISH
X-WR-CALNAME:Kräutermanufaktur Sagan
X-ORIGINAL-URL:https://www.druwido.de
X-WR-CALDESC:Veranstaltungen für Kräutermanufaktur Sagan
REFRESH-INTERVAL;VALUE=DURATION:PT1H
X-Robots-Tag:noindex
X-PUBLISHED-TTL:PT1H
BEGIN:VTIMEZONE
TZID:Europe/Berlin
BEGIN:DAYLIGHT
TZOFFSETFROM:+0100
TZOFFSETTO:+0200
TZNAME:CEST
DTSTART:20240331T010000
END:DAYLIGHT
BEGIN:STANDARD
TZOFFSETFROM:+0200
TZOFFSETTO:+0100
TZNAME:CET
DTSTART:20241027T010000
END:STANDARD
BEGIN:DAYLIGHT
TZOFFSETFROM:+0100
TZOFFSETTO:+0200
TZNAME:CEST
DTSTART:20250330T010000
END:DAYLIGHT
BEGIN:STANDARD
TZOFFSETFROM:+0200
TZOFFSETTO:+0100
TZNAME:CET
DTSTART:20251026T010000
END:STANDARD
BEGIN:DAYLIGHT
TZOFFSETFROM:+0100
TZOFFSETTO:+0200
TZNAME:CEST
DTSTART:20260329T010000
END:DAYLIGHT
BEGIN:STANDARD
TZOFFSETFROM:+0200
TZOFFSETTO:+0100
TZNAME:CET
DTSTART:20261025T010000
END:STANDARD
END:VTIMEZONE
BEGIN:VEVENT
DTSTART;TZID=Europe/Berlin:20250307T181500
DTEND;TZID=Europe/Berlin:20250307T201500
DTSTAMP:20260419T141735
CREATED:20250120T172627Z
LAST-MODIFIED:20250121T120004Z
UID:7945-1741371300-1741378500@www.druwido.de
SUMMARY:Workshop "Wunderpflanzen/Bittertropfen"
DESCRIPTION:Wunderpflanzen/Bittertropfen\nVortrag und Workshop\nTeil 1: Einjähriger Beifuß\, Jiaogulan\, Zistrose\, griechischer Bergtee und Moringa – seit Jahren überfluten uns die Wunderpflanzen\, doch was ist wirklich war? In einem Kurzvortrag möchten wir Sie für Werbeaussagen und wissenschaftliche Überlegungen sensibilisieren und Verwendungen der Pflanzen aufzeigen. \nTeil 2: Bitter tut dem Körper gut. Bittertropfen und die enthaltenen Kräuter können laut Volksheilkunde unterstützend wirken. Wir möchten das Thema und die Bitterkräuter genauer beleuchten und stellen gemeinsam Bittertropfen her. \nIm praktischen Teil füllen wir Ihre Vorratskammer mit: \neiner Artemisia-Moringa Tinktur\, \neinem Zistrosensirup und Bittertropfen \n(bitte beachten Sie\, dass unter Umständen einige Produkte auf Grund von Ziehzeiten nicht am selben Abend mitgenommen werden können) \nEs erwarten Sie ein Kräuterbüfett und Kräutertee. Außerdem erhalten Sie alle Rezepte ausgehändigt. \nStart 18.15 Uhr | Dauer: ca. 2-3h | Karten nur im Vorverkauf | Preis: 26\,00€/Person \n\nHier gehts zu Ticketvorverkauf
URL:https://www.druwido.de/event/workshop-wunderpflanzen-bittertropfen/
CATEGORIES:Was ist los bei uns?
ATTACH;FMTTYPE=image/jpeg:https://www.druwido.de/wp-content/uploads/2025/01/Wunderpflanzen-Bittertropfen-scaled.jpg
END:VEVENT
BEGIN:VEVENT
DTSTART;TZID=Europe/Berlin:20250329T150000
DTEND;TZID=Europe/Berlin:20250329T180000
DTSTAMP:20260419T141735
CREATED:20250121T115855Z
LAST-MODIFIED:20250121T115855Z
UID:7948-1743260400-1743271200@www.druwido.de
SUMMARY:Workshop "Bärlauch & Brunnenkresse"
DESCRIPTION:Bärlauch & Brunnenkresse\nVortrag\, Kräuterwanderung und Workshop\nDie zwei bekanntesten Frühlingskräuter bringen nicht nur Geschmack in unsere Frühjahrssalate\, sondern tragen besonders heilsame Wirkstoffe in sich. Welche dies sind und wie man sie sich zu Nutze machen kann\, erfahren Sie in einem Kurzvortrag. Doch ist Brunnenkresse wirklich Brunnenkresse? Und welche Verwechslung droht uns beim Bärlauch? Nach dem Vortrag wandern wir zum nahegelegenen Bach (ca. 1km)\, der Brunnenkresse auf der Spur. (Bitte bringen Sie Gummistiefel mit.) Die gesammelten Kräuter verarbeiten wir dann im Workshop zu feinsten Produkten. \nIm praktischen Teil füllen wir Ihre Vorratskammer mit: einem Pesto\, einem Frühlings-Öl und einem frischen Salz (bitte beachten Sie\, dass unter Umständen einige Produkte auf Grund von Ziehzeiten nicht am selben Abend mitgenommen werden können) \nEs erwarten Sie eine Kräutermahlzeit und Kräutertee. \nAußerdem erhalten Sie alle Rezepte ausgehändigt. \nStart 15.00 Uhr | Dauer: ca. 3h | Karten nur im Vorverkauf | Preis: 26\,00€/Person \n\n  \nHier gehts zum Ticketvorverkauf
URL:https://www.druwido.de/event/workshop-baerlauch-brunnenkresse/
CATEGORIES:Was ist los bei uns?
ATTACH;FMTTYPE=image/jpeg:https://www.druwido.de/wp-content/uploads/2025/01/Baerlauch-und-Brunnenkresse-scaled.jpg
END:VEVENT
END:VCALENDAR